BEGIN:VCALENDAR
VERSION:2.0
PRODID:-//eventon.com NONSGML v1.0//EN
CALSCALE:GREGORIAN
METHOD:PUBLISH
BEGIN:VEVENT
UID:69eb88c9c60fc
DTSTAMP:20260424T151417Z
DTSTART:20260516T143000Z
DTEND:20260516T230000Z
LOCATION:
SUMMARY:Jugendweihe
DESCRIPTION:Jugendweihe\nhttps://djespecial.de/events/jugendweihe/
URL:https://djespecial.de/events/jugendweihe/
END:VEVENT
END:VCALENDAR