BEGIN:VCALENDAR
VERSION:2.0
PRODID:-//eventon.com NONSGML v1.0//EN
CALSCALE:GREGORIAN
METHOD:PUBLISH
BEGIN:VEVENT
UID:69eb6f3d3e1e8
DTSTAMP:20260424T132517Z
DTSTART:20260620T180000Z
DTEND:20260621T010000Z
LOCATION:
SUMMARY:Hochzeit
DESCRIPTION:Hochzeit\nhttps://djespecial.de/events/hochzeit-2/
URL:https://djespecial.de/events/hochzeit-2/
END:VEVENT
END:VCALENDAR