BEGIN:VCALENDAR
VERSION:2.0
PRODID:-//eventon.com NONSGML v1.0//EN
CALSCALE:GREGORIAN
METHOD:PUBLISH
BEGIN:VEVENT
UID:69e759c61170c
DTSTAMP:20260421T110438Z
DTSTART:20260822T100000Z
DTEND:20260822T230000Z
LOCATION:
SUMMARY:Hochzeit
DESCRIPTION:Hochzeit\nhttps://djespecial.de/events/hochzeit-3/
URL:https://djespecial.de/events/hochzeit-3/
END:VEVENT
END:VCALENDAR