BEGIN:VCALENDAR
VERSION:2.0
PRODID:-//eventon.com NONSGML v1.0//EN
CALSCALE:GREGORIAN
METHOD:PUBLISH
BEGIN:VEVENT
UID:69eba56292d21
DTSTAMP:20260424T171618Z
DTSTART:20260321T190000Z
DTEND:20260321T230000Z
LOCATION:
SUMMARY:A10 Bowling
DESCRIPTION:A10 Bowling\nhttps://djespecial.de/events/a10-bowling-3/
URL:https://djespecial.de/events/a10-bowling-3/
END:VEVENT
END:VCALENDAR